BEGIN:VCALENDAR
VERSION:2.0
PRODID:icalendar-ruby
CALSCALE:GREGORIAN
METHOD:PUBLISH
BEGIN:VEVENT
DTSTAMP:20260420T084717Z
UID:33-1394829@cwc4u.org
DTSTART:20260418T160000Z
DTEND:20260418T170000Z
CLASS:PUBLIC
CREATED:20260409T095959
DESCRIPTION:
LAST-MODIFIED:20260409T095959
LOCATION:Various
SUMMARY:Wesleyan Men
URL;VALUE=URI:https://www.cwc4u.org/events/wesleyan-men/2026-04-18
ATTACH;FILENAME=Wesleyan-Men-Ministry.png;FMTTYPE=image/png:https://dq5pwpg
 1q8ru0.cloudfront.net/2025/10/19/21/03/38/6333b6f9-ed2b-4a68-91f6-b1eaf74d
 31ce/Wesleyan-Men-Ministry.png
END:VEVENT
END:VCALENDAR
